BEGIN:VCALENDAR
VERSION:2.0
PRODID:-//Feuerwehr Gachnang - ECPv6.15.20//NONSGML v1.0//EN
CALSCALE:GREGORIAN
METHOD:PUBLISH
X-WR-CALNAME:Feuerwehr Gachnang
X-ORIGINAL-URL:https://feuerwehr-gachnang.ch
X-WR-CALDESC:Veranstaltungen für Feuerwehr Gachnang
REFRESH-INTERVAL;VALUE=DURATION:PT1H
X-Robots-Tag:noindex
X-PUBLISHED-TTL:PT1H
BEGIN:VTIMEZONE
TZID:Europe/Zurich
BEGIN:DAYLIGHT
TZOFFSETFROM:+0100
TZOFFSETTO:+0200
TZNAME:CEST
DTSTART:20250330T010000
END:DAYLIGHT
BEGIN:STANDARD
TZOFFSETFROM:+0200
TZOFFSETTO:+0100
TZNAME:CET
DTSTART:20251026T010000
END:STANDARD
BEGIN:DAYLIGHT
TZOFFSETFROM:+0100
TZOFFSETTO:+0200
TZNAME:CEST
DTSTART:20260329T010000
END:DAYLIGHT
BEGIN:STANDARD
TZOFFSETFROM:+0200
TZOFFSETTO:+0100
TZNAME:CET
DTSTART:20261025T010000
END:STANDARD
BEGIN:DAYLIGHT
TZOFFSETFROM:+0100
TZOFFSETTO:+0200
TZNAME:CEST
DTSTART:20270328T010000
END:DAYLIGHT
BEGIN:STANDARD
TZOFFSETFROM:+0200
TZOFFSETTO:+0100
TZNAME:CET
DTSTART:20271031T010000
END:STANDARD
END:VTIMEZONE
BEGIN:VEVENT
DTSTART;TZID=Europe/Zurich:20260423T193000
DTEND;TZID=Europe/Zurich:20260423T214500
DTSTAMP:20260421T134936
CREATED:20251020T135607Z
LAST-MODIFIED:20251020T135607Z
UID:2681-1776972600-1776980700@feuerwehr-gachnang.ch
SUMMARY:AS-Übung 2
DESCRIPTION:
URL:https://feuerwehr-gachnang.ch/event/as-uebung-2-6/
LOCATION:Feuerwehr Depot Gachnang
CATEGORIES:2026,Atemschutz,Mannschaft
END:VEVENT
BEGIN:VEVENT
DTSTART;TZID=Europe/Zurich:20260423T193000
DTEND;TZID=Europe/Zurich:20260423T214500
DTSTAMP:20260421T134936
CREATED:20251020T135750Z
LAST-MODIFIED:20251020T135750Z
UID:2683-1776972600-1776980700@feuerwehr-gachnang.ch
SUMMARY:FU-Übung 2
DESCRIPTION:
URL:https://feuerwehr-gachnang.ch/event/fu-uebung-2-7/
LOCATION:Feuerwehr Depot Gachnang
CATEGORIES:2026,Führungsunterstützung,Mannschaft
END:VEVENT
BEGIN:VEVENT
DTSTART;TZID=Europe/Zurich:20260429T193000
DTEND;TZID=Europe/Zurich:20260429T214500
DTSTAMP:20260421T134936
CREATED:20251020T135943Z
LAST-MODIFIED:20251020T135943Z
UID:2685-1777491000-1777499100@feuerwehr-gachnang.ch
SUMMARY:Übung 4
DESCRIPTION:
URL:https://feuerwehr-gachnang.ch/event/uebung-4-5/
LOCATION:Feuerwehr Depot Gachnang
CATEGORIES:2026,Mannschaft
END:VEVENT
BEGIN:VEVENT
DTSTART;TZID=Europe/Zurich:20260512T193000
DTEND;TZID=Europe/Zurich:20260512T214500
DTSTAMP:20260421T134936
CREATED:20251020T140046Z
LAST-MODIFIED:20251020T140046Z
UID:2687-1778614200-1778622300@feuerwehr-gachnang.ch
SUMMARY:Maschinistenübung 1
DESCRIPTION:
URL:https://feuerwehr-gachnang.ch/event/maschinistenuebung-1-4/
LOCATION:Feuerwehr Depot Gachnang
CATEGORIES:2026,Fahrer_Maschinisten
END:VEVENT
BEGIN:VEVENT
DTSTART;TZID=Europe/Zurich:20260526T193000
DTEND;TZID=Europe/Zurich:20260526T214500
DTSTAMP:20260421T134936
CREATED:20251020T140136Z
LAST-MODIFIED:20251020T140136Z
UID:2689-1779823800-1779831900@feuerwehr-gachnang.ch
SUMMARY:AS-Leistungstest 2
DESCRIPTION:
URL:https://feuerwehr-gachnang.ch/event/as-leistungstest-2-3/
LOCATION:Feuerwehr Depot Gachnang
CATEGORIES:2026,Atemschutz
END:VEVENT
BEGIN:VEVENT
DTSTART;TZID=Europe/Zurich:20260529T193000
DTEND;TZID=Europe/Zurich:20260529T214500
DTSTAMP:20260421T134936
CREATED:20251020T140236Z
LAST-MODIFIED:20251020T140236Z
UID:2691-1780083000-1780091100@feuerwehr-gachnang.ch
SUMMARY:Übung 5
DESCRIPTION:
URL:https://feuerwehr-gachnang.ch/event/uebung-5-5/
LOCATION:Feuerwehr Depot Gachnang
CATEGORIES:2026,Mannschaft
END:VEVENT
BEGIN:VEVENT
DTSTART;TZID=Europe/Zurich:20260615T193000
DTEND;TZID=Europe/Zurich:20260615T214500
DTSTAMP:20260421T134936
CREATED:20251020T140343Z
LAST-MODIFIED:20251020T140343Z
UID:2693-1781551800-1781559900@feuerwehr-gachnang.ch
SUMMARY:Übung 6
DESCRIPTION:
URL:https://feuerwehr-gachnang.ch/event/uebung-6-5/
LOCATION:Feuerwehr Depot Gachnang
CATEGORIES:2026,Mannschaft
END:VEVENT
BEGIN:VEVENT
DTSTART;TZID=Europe/Zurich:20260619T193000
DTEND;TZID=Europe/Zurich:20260619T214500
DTSTAMP:20260421T134936
CREATED:20251020T140435Z
LAST-MODIFIED:20251020T140435Z
UID:2695-1781897400-1781905500@feuerwehr-gachnang.ch
SUMMARY:Funktionärs-Rapport 1
DESCRIPTION:
URL:https://feuerwehr-gachnang.ch/event/funktionaers-rapport-1-2/
LOCATION:Feuerwehr Depot Gachnang
CATEGORIES:2026,Offiziere
END:VEVENT
BEGIN:VEVENT
DTSTART;TZID=Europe/Zurich:20260703T193000
DTEND;TZID=Europe/Zurich:20260703T214500
DTSTAMP:20260421T134936
CREATED:20251020T140632Z
LAST-MODIFIED:20260216T063156Z
UID:2697-1783107000-1783115100@feuerwehr-gachnang.ch
SUMMARY:Jahresessen
DESCRIPTION:
URL:https://feuerwehr-gachnang.ch/event/jahresessen-5/
LOCATION:Feuerwehr Depot Gachnang
CATEGORIES:2026,Mannschaft
END:VEVENT
BEGIN:VEVENT
DTSTART;TZID=Europe/Zurich:20260801T190000
DTEND;TZID=Europe/Zurich:20260801T230000
DTSTAMP:20260421T134936
CREATED:20251020T140722Z
LAST-MODIFIED:20251020T140722Z
UID:2699-1785610800-1785625200@feuerwehr-gachnang.ch
SUMMARY:Funkenwache 1. Augustfeier
DESCRIPTION:
URL:https://feuerwehr-gachnang.ch/event/funkenwache-1-augustfeier-2/
LOCATION:Feuerwehr Depot Gachnang
CATEGORIES:2026,Mannschaft
END:VEVENT
BEGIN:VEVENT
DTSTART;TZID=Europe/Zurich:20260812T193000
DTEND;TZID=Europe/Zurich:20260812T214500
DTSTAMP:20260421T134936
CREATED:20251020T140811Z
LAST-MODIFIED:20251020T140811Z
UID:2701-1786563000-1786571100@feuerwehr-gachnang.ch
SUMMARY:Offiziersübung 2
DESCRIPTION:
URL:https://feuerwehr-gachnang.ch/event/offiziersuebung-2-4/
LOCATION:Feuerwehr Depot Gachnang
CATEGORIES:2026,Offiziere
END:VEVENT
BEGIN:VEVENT
DTSTART;TZID=Europe/Zurich:20260818T193000
DTEND;TZID=Europe/Zurich:20260818T214500
DTSTAMP:20260421T134936
CREATED:20251020T140901Z
LAST-MODIFIED:20251020T140901Z
UID:2703-1787081400-1787089500@feuerwehr-gachnang.ch
SUMMARY:Maschinistenübung 2
DESCRIPTION:
URL:https://feuerwehr-gachnang.ch/event/maschinistenuebung-2-4/
LOCATION:Feuerwehr Depot Gachnang
CATEGORIES:2026,Fahrer_Maschinisten
END:VEVENT
BEGIN:VEVENT
DTSTART;TZID=Europe/Zurich:20260825T193000
DTEND;TZID=Europe/Zurich:20260825T214500
DTSTAMP:20260421T134936
CREATED:20251020T140947Z
LAST-MODIFIED:20251020T140947Z
UID:2705-1787686200-1787694300@feuerwehr-gachnang.ch
SUMMARY:Infoanlass 2
DESCRIPTION:
URL:https://feuerwehr-gachnang.ch/event/infoanlass-2-5/
LOCATION:Feuerwehr Depot Gachnang
CATEGORIES:2026,Mannschaft
END:VEVENT
BEGIN:VEVENT
DTSTART;TZID=Europe/Zurich:20260831T193000
DTEND;TZID=Europe/Zurich:20260831T214500
DTSTAMP:20260421T134936
CREATED:20251020T141041Z
LAST-MODIFIED:20251020T141041Z
UID:2707-1788204600-1788212700@feuerwehr-gachnang.ch
SUMMARY:Übung 7
DESCRIPTION:
URL:https://feuerwehr-gachnang.ch/event/uebung-7-5/
LOCATION:Feuerwehr Depot Gachnang
CATEGORIES:2026,Mannschaft
END:VEVENT
BEGIN:VEVENT
DTSTART;TZID=Europe/Zurich:20260912T073000
DTEND;TZID=Europe/Zurich:20260912T120000
DTSTAMP:20260421T134936
CREATED:20251020T141150Z
LAST-MODIFIED:20251020T141150Z
UID:2709-1789198200-1789214400@feuerwehr-gachnang.ch
SUMMARY:Übung 8+9
DESCRIPTION:
URL:https://feuerwehr-gachnang.ch/event/uebung-89-3/
LOCATION:Feuerwehr Depot Gachnang
CATEGORIES:2026,Mannschaft
END:VEVENT
BEGIN:VEVENT
DTSTART;TZID=Europe/Zurich:20260915T193000
DTEND;TZID=Europe/Zurich:20260915T214500
DTSTAMP:20260421T134936
CREATED:20251020T141335Z
LAST-MODIFIED:20251020T141335Z
UID:2711-1789500600-1789508700@feuerwehr-gachnang.ch
SUMMARY:Kaderübung 2
DESCRIPTION:
URL:https://feuerwehr-gachnang.ch/event/kaderuebung-2-4/
LOCATION:Feuerwehr Depot Gachnang
CATEGORIES:2026,Kader
END:VEVENT
BEGIN:VEVENT
DTSTART;TZID=Europe/Zurich:20260923T193000
DTEND;TZID=Europe/Zurich:20260923T214500
DTSTAMP:20260421T134936
CREATED:20251020T141444Z
LAST-MODIFIED:20251020T141444Z
UID:2713-1790191800-1790199900@feuerwehr-gachnang.ch
SUMMARY:Übung 10
DESCRIPTION:
URL:https://feuerwehr-gachnang.ch/event/uebung-10-4/
LOCATION:Feuerwehr Depot Gachnang
CATEGORIES:2026,Mannschaft
END:VEVENT
BEGIN:VEVENT
DTSTART;TZID=Europe/Zurich:20261021T193000
DTEND;TZID=Europe/Zurich:20261021T214500
DTSTAMP:20260421T134936
CREATED:20251021T060935Z
LAST-MODIFIED:20251021T060935Z
UID:2715-1792611000-1792619100@feuerwehr-gachnang.ch
SUMMARY:AS-Übung 3
DESCRIPTION:
URL:https://feuerwehr-gachnang.ch/event/as-uebung-3-6/
LOCATION:Feuerwehr Depot Gachnang
CATEGORIES:2026,Atemschutz,Mannschaft
END:VEVENT
BEGIN:VEVENT
DTSTART;TZID=Europe/Zurich:20261029T193000
DTEND;TZID=Europe/Zurich:20261029T214500
DTSTAMP:20260421T134936
CREATED:20251021T061027Z
LAST-MODIFIED:20251021T061027Z
UID:2717-1793302200-1793310300@feuerwehr-gachnang.ch
SUMMARY:FU-Übung 3
DESCRIPTION:
URL:https://feuerwehr-gachnang.ch/event/fu-uebung-3-6/
LOCATION:Feuerwehr Depot Gachnang
CATEGORIES:2026,Führungsunterstützung,Mannschaft
END:VEVENT
BEGIN:VEVENT
DTSTART;TZID=Europe/Zurich:20261112T193000
DTEND;TZID=Europe/Zurich:20261112T214500
DTSTAMP:20260421T134936
CREATED:20251021T061129Z
LAST-MODIFIED:20251021T061129Z
UID:2719-1794511800-1794519900@feuerwehr-gachnang.ch
SUMMARY:Übung 11
DESCRIPTION:
URL:https://feuerwehr-gachnang.ch/event/uebung-11-5/
LOCATION:Feuerwehr Depot Gachnang
CATEGORIES:2026,Mannschaft
END:VEVENT
BEGIN:VEVENT
DTSTART;TZID=Europe/Zurich:20261117T193000
DTEND;TZID=Europe/Zurich:20261117T214500
DTSTAMP:20260421T134936
CREATED:20251021T061226Z
LAST-MODIFIED:20251021T061226Z
UID:2721-1794943800-1794951900@feuerwehr-gachnang.ch
SUMMARY:Kaderrapport
DESCRIPTION:
URL:https://feuerwehr-gachnang.ch/event/kaderrapport/
LOCATION:Feuerwehr Depot Gachnang
CATEGORIES:2026,Kader
END:VEVENT
BEGIN:VEVENT
DTSTART;TZID=Europe/Zurich:20261120T193000
DTEND;TZID=Europe/Zurich:20261120T214500
DTSTAMP:20260421T134936
CREATED:20251021T061321Z
LAST-MODIFIED:20251021T061321Z
UID:2723-1795203000-1795211100@feuerwehr-gachnang.ch
SUMMARY:Funktionärs-Rapport 2
DESCRIPTION:
URL:https://feuerwehr-gachnang.ch/event/funktionaers-rapport-2-2/
LOCATION:Feuerwehr Depot Gachnang
CATEGORIES:2026,Offiziere
END:VEVENT
BEGIN:VEVENT
DTSTART;TZID=Europe/Zurich:20261127T193000
DTEND;TZID=Europe/Zurich:20261127T214500
DTSTAMP:20260421T134936
CREATED:20251021T061410Z
LAST-MODIFIED:20251021T061410Z
UID:2725-1795807800-1795815900@feuerwehr-gachnang.ch
SUMMARY:Übung 12 mit Abschlusshöck
DESCRIPTION:
URL:https://feuerwehr-gachnang.ch/event/uebung-12-mit-abschlusshoeck-5/
LOCATION:Feuerwehr Depot Gachnang
CATEGORIES:2026,Mannschaft
END:VEVENT
END:VCALENDAR