BEGIN:VCALENDAR
VERSION:2.0
PRODID:-//Feuerwehr Gachnang - ECPv6.15.20//NONSGML v1.0//EN
CALSCALE:GREGORIAN
METHOD:PUBLISH
X-ORIGINAL-URL:https://feuerwehr-gachnang.ch
X-WR-CALDESC:Veranstaltungen für Feuerwehr Gachnang
REFRESH-INTERVAL;VALUE=DURATION:PT1H
X-Robots-Tag:noindex
X-PUBLISHED-TTL:PT1H
BEGIN:VTIMEZONE
TZID:Europe/Zurich
BEGIN:DAYLIGHT
TZOFFSETFROM:+0100
TZOFFSETTO:+0200
TZNAME:CEST
DTSTART:20200329T010000
END:DAYLIGHT
BEGIN:STANDARD
TZOFFSETFROM:+0200
TZOFFSETTO:+0100
TZNAME:CET
DTSTART:20201025T010000
END:STANDARD
BEGIN:DAYLIGHT
TZOFFSETFROM:+0100
TZOFFSETTO:+0200
TZNAME:CEST
DTSTART:20210328T010000
END:DAYLIGHT
BEGIN:STANDARD
TZOFFSETFROM:+0200
TZOFFSETTO:+0100
TZNAME:CET
DTSTART:20211031T010000
END:STANDARD
BEGIN:DAYLIGHT
TZOFFSETFROM:+0100
TZOFFSETTO:+0200
TZNAME:CEST
DTSTART:20220327T010000
END:DAYLIGHT
BEGIN:STANDARD
TZOFFSETFROM:+0200
TZOFFSETTO:+0100
TZNAME:CET
DTSTART:20221030T010000
END:STANDARD
END:VTIMEZONE
BEGIN:VEVENT
DTSTART;TZID=Europe/Zurich:20210302T193000
DTEND;TZID=Europe/Zurich:20210302T214500
DTSTAMP:20260425T171453
CREATED:20201229T194630Z
LAST-MODIFIED:20201229T194630Z
UID:1343-1614713400-1614721500@feuerwehr-gachnang.ch
SUMMARY:Mannschaftsübung 2.1
DESCRIPTION:
URL:https://feuerwehr-gachnang.ch/event/mannschaftsuebung-2-1/
CATEGORIES:Mannschaft
END:VEVENT
BEGIN:VEVENT
DTSTART;TZID=Europe/Zurich:20210303T193000
DTEND;TZID=Europe/Zurich:20210303T214500
DTSTAMP:20260425T171453
CREATED:20201229T194644Z
LAST-MODIFIED:20201229T194644Z
UID:1345-1614799800-1614807900@feuerwehr-gachnang.ch
SUMMARY:Mannschaftsübung 2.2
DESCRIPTION:
URL:https://feuerwehr-gachnang.ch/event/mannschaftsuebung-2-2/
CATEGORIES:Mannschaft
END:VEVENT
BEGIN:VEVENT
DTSTART;TZID=Europe/Zurich:20210311T193000
DTEND;TZID=Europe/Zurich:20210311T214500
DTSTAMP:20260425T171453
CREATED:20201229T202906Z
LAST-MODIFIED:20201229T203037Z
UID:1403-1615491000-1615499100@feuerwehr-gachnang.ch
SUMMARY:1. Finnentest für AS
DESCRIPTION:
URL:https://feuerwehr-gachnang.ch/event/1-finnentest-fuer-as/
CATEGORIES:Atemschutz
END:VEVENT
BEGIN:VEVENT
DTSTART;TZID=Europe/Zurich:20210318T193000
DTEND;TZID=Europe/Zurich:20210318T214500
DTSTAMP:20260425T171453
CREATED:20201229T195747Z
LAST-MODIFIED:20201229T202307Z
UID:1389-1616095800-1616103900@feuerwehr-gachnang.ch
SUMMARY:SIKO
DESCRIPTION:
URL:https://feuerwehr-gachnang.ch/event/siko/
END:VEVENT
BEGIN:VEVENT
DTSTART;TZID=Europe/Zurich:20210323T193000
DTEND;TZID=Europe/Zurich:20210323T214500
DTSTAMP:20260425T171453
CREATED:20201229T194705Z
LAST-MODIFIED:20201229T194705Z
UID:1347-1616527800-1616535900@feuerwehr-gachnang.ch
SUMMARY:Mannschaftsübung 3.1
DESCRIPTION:
URL:https://feuerwehr-gachnang.ch/event/mannschaftsuebung-3-1/
CATEGORIES:Mannschaft
END:VEVENT
BEGIN:VEVENT
DTSTART;TZID=Europe/Zurich:20210324T193000
DTEND;TZID=Europe/Zurich:20210324T214500
DTSTAMP:20260425T171453
CREATED:20201229T194719Z
LAST-MODIFIED:20201229T194719Z
UID:1349-1616614200-1616622300@feuerwehr-gachnang.ch
SUMMARY:Mannschaftsübung 3.2
DESCRIPTION:
URL:https://feuerwehr-gachnang.ch/event/mannschaftsuebung-3-2/
CATEGORIES:Mannschaft
END:VEVENT
END:VCALENDAR