BEGIN:VCALENDAR
VERSION:2.0
PRODID:-//Feuerwehr Gachnang - ECPv6.15.20//NONSGML v1.0//EN
CALSCALE:GREGORIAN
METHOD:PUBLISH
X-WR-CALNAME:Feuerwehr Gachnang
X-ORIGINAL-URL:https://feuerwehr-gachnang.ch
X-WR-CALDESC:Veranstaltungen für Feuerwehr Gachnang
REFRESH-INTERVAL;VALUE=DURATION:PT1H
X-Robots-Tag:noindex
X-PUBLISHED-TTL:PT1H
BEGIN:VTIMEZONE
TZID:Europe/Zurich
BEGIN:DAYLIGHT
TZOFFSETFROM:+0100
TZOFFSETTO:+0200
TZNAME:CEST
DTSTART:20210328T010000
END:DAYLIGHT
BEGIN:STANDARD
TZOFFSETFROM:+0200
TZOFFSETTO:+0100
TZNAME:CET
DTSTART:20211031T010000
END:STANDARD
BEGIN:DAYLIGHT
TZOFFSETFROM:+0100
TZOFFSETTO:+0200
TZNAME:CEST
DTSTART:20220327T010000
END:DAYLIGHT
BEGIN:STANDARD
TZOFFSETFROM:+0200
TZOFFSETTO:+0100
TZNAME:CET
DTSTART:20221030T010000
END:STANDARD
BEGIN:DAYLIGHT
TZOFFSETFROM:+0100
TZOFFSETTO:+0200
TZNAME:CEST
DTSTART:20230326T010000
END:DAYLIGHT
BEGIN:STANDARD
TZOFFSETFROM:+0200
TZOFFSETTO:+0100
TZNAME:CET
DTSTART:20231029T010000
END:STANDARD
END:VTIMEZONE
BEGIN:VEVENT
DTSTART;TZID=Europe/Zurich:20220421T193000
DTEND;TZID=Europe/Zurich:20220421T220000
DTSTAMP:20260424T194325
CREATED:20211229T205215Z
LAST-MODIFIED:20211229T205412Z
UID:1811-1650569400-1650578400@feuerwehr-gachnang.ch
SUMMARY:Kader 1
DESCRIPTION:
URL:https://feuerwehr-gachnang.ch/event/kader-1/
CATEGORIES:Kader
END:VEVENT
BEGIN:VEVENT
DTSTART;TZID=Europe/Zurich:20220427T193000
DTEND;TZID=Europe/Zurich:20220427T220000
DTSTAMP:20260424T194325
CREATED:20211229T205215Z
LAST-MODIFIED:20211229T205325Z
UID:1812-1651087800-1651096800@feuerwehr-gachnang.ch
SUMMARY:AS-Übung 2
DESCRIPTION:
URL:https://feuerwehr-gachnang.ch/event/as-uebung-2/
CATEGORIES:Atemschutz
END:VEVENT
BEGIN:VEVENT
DTSTART;TZID=Europe/Zurich:20220427T193000
DTEND;TZID=Europe/Zurich:20220427T220000
DTSTAMP:20260424T194325
CREATED:20211229T205215Z
LAST-MODIFIED:20211229T205406Z
UID:1813-1651087800-1651096800@feuerwehr-gachnang.ch
SUMMARY:FU-Übung 2
DESCRIPTION:
URL:https://feuerwehr-gachnang.ch/event/fu-uebung-2-2/
CATEGORIES:Führungsunterstützung
END:VEVENT
END:VCALENDAR