BEGIN:VCALENDAR
VERSION:2.0
PRODID:-//Feuerwehr Gachnang - ECPv6.15.20//NONSGML v1.0//EN
CALSCALE:GREGORIAN
METHOD:PUBLISH
X-ORIGINAL-URL:https://feuerwehr-gachnang.ch
X-WR-CALDESC:Veranstaltungen für Feuerwehr Gachnang
REFRESH-INTERVAL;VALUE=DURATION:PT1H
X-Robots-Tag:noindex
X-PUBLISHED-TTL:PT1H
BEGIN:VTIMEZONE
TZID:Europe/Zurich
BEGIN:DAYLIGHT
TZOFFSETFROM:+0100
TZOFFSETTO:+0200
TZNAME:CEST
DTSTART:20220327T010000
END:DAYLIGHT
BEGIN:STANDARD
TZOFFSETFROM:+0200
TZOFFSETTO:+0100
TZNAME:CET
DTSTART:20221030T010000
END:STANDARD
BEGIN:DAYLIGHT
TZOFFSETFROM:+0100
TZOFFSETTO:+0200
TZNAME:CEST
DTSTART:20230326T010000
END:DAYLIGHT
BEGIN:STANDARD
TZOFFSETFROM:+0200
TZOFFSETTO:+0100
TZNAME:CET
DTSTART:20231029T010000
END:STANDARD
BEGIN:DAYLIGHT
TZOFFSETFROM:+0100
TZOFFSETTO:+0200
TZNAME:CEST
DTSTART:20240331T010000
END:DAYLIGHT
BEGIN:STANDARD
TZOFFSETFROM:+0200
TZOFFSETTO:+0100
TZNAME:CET
DTSTART:20241027T010000
END:STANDARD
END:VTIMEZONE
BEGIN:VEVENT
DTSTART;TZID=Europe/Zurich:20230207T193000
DTEND;TZID=Europe/Zurich:20230207T214500
DTSTAMP:20260424T040635
CREATED:20221224T114123Z
LAST-MODIFIED:20221224T114123Z
UID:1957-1675798200-1675806300@feuerwehr-gachnang.ch
SUMMARY:AS-Übung 1
DESCRIPTION:
URL:https://feuerwehr-gachnang.ch/event/as-uebung-1-3/
CATEGORIES:2023,Atemschutz
END:VEVENT
BEGIN:VEVENT
DTSTART;TZID=Europe/Zurich:20230215T193000
DTEND;TZID=Europe/Zurich:20230215T214500
DTSTAMP:20260424T040635
CREATED:20221224T114152Z
LAST-MODIFIED:20221224T114152Z
UID:1959-1676489400-1676497500@feuerwehr-gachnang.ch
SUMMARY:FU-Übung 1
DESCRIPTION:
URL:https://feuerwehr-gachnang.ch/event/fu-uebung-1-3/
CATEGORIES:2023,Führungsunterstützung
END:VEVENT
BEGIN:VEVENT
DTSTART;TZID=Europe/Zurich:20230217T193000
DTEND;TZID=Europe/Zurich:20230217T214500
DTSTAMP:20260424T040635
CREATED:20221224T114225Z
LAST-MODIFIED:20221224T114233Z
UID:1961-1676662200-1676670300@feuerwehr-gachnang.ch
SUMMARY:Kaderessen
DESCRIPTION:
URL:https://feuerwehr-gachnang.ch/event/kaderessen-3/
CATEGORIES:2023,Kader
END:VEVENT
BEGIN:VEVENT
DTSTART;TZID=Europe/Zurich:20230228T193000
DTEND;TZID=Europe/Zurich:20230228T214500
DTSTAMP:20260424T040635
CREATED:20221224T114302Z
LAST-MODIFIED:20221224T114302Z
UID:1963-1677612600-1677620700@feuerwehr-gachnang.ch
SUMMARY:Übung 2
DESCRIPTION:
URL:https://feuerwehr-gachnang.ch/event/uebung-2-2/
CATEGORIES:2023,Mannschaft
END:VEVENT
END:VCALENDAR