BEGIN:VCALENDAR
VERSION:2.0
PRODID:-//Feuerwehr Gachnang - ECPv6.15.20//NONSGML v1.0//EN
CALSCALE:GREGORIAN
METHOD:PUBLISH
X-WR-CALNAME:Feuerwehr Gachnang
X-ORIGINAL-URL:https://feuerwehr-gachnang.ch
X-WR-CALDESC:Veranstaltungen für Feuerwehr Gachnang
REFRESH-INTERVAL;VALUE=DURATION:PT1H
X-Robots-Tag:noindex
X-PUBLISHED-TTL:PT1H
BEGIN:VTIMEZONE
TZID:Europe/Zurich
BEGIN:DAYLIGHT
TZOFFSETFROM:+0100
TZOFFSETTO:+0200
TZNAME:CEST
DTSTART:20220327T010000
END:DAYLIGHT
BEGIN:STANDARD
TZOFFSETFROM:+0200
TZOFFSETTO:+0100
TZNAME:CET
DTSTART:20221030T010000
END:STANDARD
BEGIN:DAYLIGHT
TZOFFSETFROM:+0100
TZOFFSETTO:+0200
TZNAME:CEST
DTSTART:20230326T010000
END:DAYLIGHT
BEGIN:STANDARD
TZOFFSETFROM:+0200
TZOFFSETTO:+0100
TZNAME:CET
DTSTART:20231029T010000
END:STANDARD
BEGIN:DAYLIGHT
TZOFFSETFROM:+0100
TZOFFSETTO:+0200
TZNAME:CEST
DTSTART:20240331T010000
END:DAYLIGHT
BEGIN:STANDARD
TZOFFSETFROM:+0200
TZOFFSETTO:+0100
TZNAME:CET
DTSTART:20241027T010000
END:STANDARD
END:VTIMEZONE
BEGIN:VEVENT
DTSTART;TZID=Europe/Zurich:20230307T193000
DTEND;TZID=Europe/Zurich:20230307T214500
DTSTAMP:20260424T023043
CREATED:20221224T114355Z
LAST-MODIFIED:20221224T114355Z
UID:1965-1678217400-1678225500@feuerwehr-gachnang.ch
SUMMARY:Finnentest 1
DESCRIPTION:
URL:https://feuerwehr-gachnang.ch/event/finnentest-1-2/
CATEGORIES:2023,Atemschutz
END:VEVENT
BEGIN:VEVENT
DTSTART;TZID=Europe/Zurich:20230321T193000
DTEND;TZID=Europe/Zurich:20230321T214500
DTSTAMP:20260424T023043
CREATED:20221224T114433Z
LAST-MODIFIED:20221224T114433Z
UID:1967-1679427000-1679435100@feuerwehr-gachnang.ch
SUMMARY:Übung 3
DESCRIPTION:
URL:https://feuerwehr-gachnang.ch/event/uebung-3-2/
CATEGORIES:2023,Atemschutz
END:VEVENT
BEGIN:VEVENT
DTSTART;TZID=Europe/Zurich:20230324T193000
DTEND;TZID=Europe/Zurich:20230324T214500
DTSTAMP:20260424T023043
CREATED:20221224T114500Z
LAST-MODIFIED:20221224T114500Z
UID:1969-1679686200-1679694300@feuerwehr-gachnang.ch
SUMMARY:Offizier 1
DESCRIPTION:
URL:https://feuerwehr-gachnang.ch/event/offizier-1-2/
CATEGORIES:2023,Offiziere
END:VEVENT
END:VCALENDAR