BEGIN:VCALENDAR
VERSION:2.0
PRODID:-//Feuerwehr Gachnang - ECPv6.15.20//NONSGML v1.0//EN
CALSCALE:GREGORIAN
METHOD:PUBLISH
X-WR-CALNAME:Feuerwehr Gachnang
X-ORIGINAL-URL:https://feuerwehr-gachnang.ch
X-WR-CALDESC:Veranstaltungen für Feuerwehr Gachnang
REFRESH-INTERVAL;VALUE=DURATION:PT1H
X-Robots-Tag:noindex
X-PUBLISHED-TTL:PT1H
BEGIN:VTIMEZONE
TZID:Europe/Zurich
BEGIN:DAYLIGHT
TZOFFSETFROM:+0100
TZOFFSETTO:+0200
TZNAME:CEST
DTSTART:20220327T010000
END:DAYLIGHT
BEGIN:STANDARD
TZOFFSETFROM:+0200
TZOFFSETTO:+0100
TZNAME:CET
DTSTART:20221030T010000
END:STANDARD
BEGIN:DAYLIGHT
TZOFFSETFROM:+0100
TZOFFSETTO:+0200
TZNAME:CEST
DTSTART:20230326T010000
END:DAYLIGHT
BEGIN:STANDARD
TZOFFSETFROM:+0200
TZOFFSETTO:+0100
TZNAME:CET
DTSTART:20231029T010000
END:STANDARD
BEGIN:DAYLIGHT
TZOFFSETFROM:+0100
TZOFFSETTO:+0200
TZNAME:CEST
DTSTART:20240331T010000
END:DAYLIGHT
BEGIN:STANDARD
TZOFFSETFROM:+0200
TZOFFSETTO:+0100
TZNAME:CET
DTSTART:20241027T010000
END:STANDARD
END:VTIMEZONE
BEGIN:VEVENT
DTSTART;TZID=Europe/Zurich:20230502T193000
DTEND;TZID=Europe/Zurich:20230502T214500
DTSTAMP:20260423T233527
CREATED:20221224T114700Z
LAST-MODIFIED:20221224T114700Z
UID:1977-1683055800-1683063900@feuerwehr-gachnang.ch
SUMMARY:Übung 4
DESCRIPTION:
URL:https://feuerwehr-gachnang.ch/event/uebung-4-2/
CATEGORIES:2023,Mannschaft
END:VEVENT
BEGIN:VEVENT
DTSTART;TZID=Europe/Zurich:20230516T193000
DTEND;TZID=Europe/Zurich:20230516T214500
DTSTAMP:20260423T233527
CREATED:20221224T114715Z
LAST-MODIFIED:20221224T114715Z
UID:1979-1684265400-1684273500@feuerwehr-gachnang.ch
SUMMARY:Übung 5
DESCRIPTION:
URL:https://feuerwehr-gachnang.ch/event/uebung-5-2/
CATEGORIES:2023,Mannschaft
END:VEVENT
END:VCALENDAR