BEGIN:VCALENDAR
VERSION:2.0
PRODID:-//Feuerwehr Gachnang - ECPv6.15.20//NONSGML v1.0//EN
CALSCALE:GREGORIAN
METHOD:PUBLISH
X-WR-CALNAME:Feuerwehr Gachnang
X-ORIGINAL-URL:https://feuerwehr-gachnang.ch
X-WR-CALDESC:Veranstaltungen für Feuerwehr Gachnang
REFRESH-INTERVAL;VALUE=DURATION:PT1H
X-Robots-Tag:noindex
X-PUBLISHED-TTL:PT1H
BEGIN:VTIMEZONE
TZID:Europe/Zurich
BEGIN:DAYLIGHT
TZOFFSETFROM:+0100
TZOFFSETTO:+0200
TZNAME:CEST
DTSTART:20220327T010000
END:DAYLIGHT
BEGIN:STANDARD
TZOFFSETFROM:+0200
TZOFFSETTO:+0100
TZNAME:CET
DTSTART:20221030T010000
END:STANDARD
BEGIN:DAYLIGHT
TZOFFSETFROM:+0100
TZOFFSETTO:+0200
TZNAME:CEST
DTSTART:20230326T010000
END:DAYLIGHT
BEGIN:STANDARD
TZOFFSETFROM:+0200
TZOFFSETTO:+0100
TZNAME:CET
DTSTART:20231029T010000
END:STANDARD
BEGIN:DAYLIGHT
TZOFFSETFROM:+0100
TZOFFSETTO:+0200
TZNAME:CEST
DTSTART:20240331T010000
END:DAYLIGHT
BEGIN:STANDARD
TZOFFSETFROM:+0200
TZOFFSETTO:+0100
TZNAME:CET
DTSTART:20241027T010000
END:STANDARD
END:VTIMEZONE
BEGIN:VEVENT
DTSTART;TZID=Europe/Zurich:20230614T193000
DTEND;TZID=Europe/Zurich:20230614T214500
DTSTAMP:20260423T220454
CREATED:20221224T114735Z
LAST-MODIFIED:20221224T114735Z
UID:1981-1686771000-1686779100@feuerwehr-gachnang.ch
SUMMARY:Übung 6
DESCRIPTION:
URL:https://feuerwehr-gachnang.ch/event/uebung-6-2/
CATEGORIES:2023,Mannschaft
END:VEVENT
BEGIN:VEVENT
DTSTART;TZID=Europe/Zurich:20230620T193000
DTEND;TZID=Europe/Zurich:20230620T214500
DTSTAMP:20260423T220454
CREATED:20221224T114809Z
LAST-MODIFIED:20221224T114809Z
UID:1983-1687289400-1687297500@feuerwehr-gachnang.ch
SUMMARY:Maschinistenübung
DESCRIPTION:
URL:https://feuerwehr-gachnang.ch/event/maschinistenuebung-2/
CATEGORIES:2023,Fahrer_Maschinisten
END:VEVENT
BEGIN:VEVENT
DTSTART;TZID=Europe/Zurich:20230623T193000
DTEND;TZID=Europe/Zurich:20230623T214500
DTSTAMP:20260423T220454
CREATED:20221224T114832Z
LAST-MODIFIED:20221224T114832Z
UID:1985-1687548600-1687556700@feuerwehr-gachnang.ch
SUMMARY:Offiziersrapport 1
DESCRIPTION:
URL:https://feuerwehr-gachnang.ch/event/offiziersrapport-1-3/
CATEGORIES:2023,Offiziere
END:VEVENT
BEGIN:VEVENT
DTSTART;TZID=Europe/Zurich:20230630T193000
DTEND;TZID=Europe/Zurich:20230630T214500
DTSTAMP:20260423T220454
CREATED:20221224T114858Z
LAST-MODIFIED:20221224T114858Z
UID:1987-1688153400-1688161500@feuerwehr-gachnang.ch
SUMMARY:Jahresessen
DESCRIPTION:
URL:https://feuerwehr-gachnang.ch/event/jahresessen-2/
CATEGORIES:2023
END:VEVENT
END:VCALENDAR