BEGIN:VCALENDAR
VERSION:2.0
PRODID:-//Feuerwehr Gachnang - ECPv6.15.20//NONSGML v1.0//EN
CALSCALE:GREGORIAN
METHOD:PUBLISH
X-WR-CALNAME:Feuerwehr Gachnang
X-ORIGINAL-URL:https://feuerwehr-gachnang.ch
X-WR-CALDESC:Veranstaltungen für Feuerwehr Gachnang
REFRESH-INTERVAL;VALUE=DURATION:PT1H
X-Robots-Tag:noindex
X-PUBLISHED-TTL:PT1H
BEGIN:VTIMEZONE
TZID:Europe/Zurich
BEGIN:DAYLIGHT
TZOFFSETFROM:+0100
TZOFFSETTO:+0200
TZNAME:CEST
DTSTART:20220327T010000
END:DAYLIGHT
BEGIN:STANDARD
TZOFFSETFROM:+0200
TZOFFSETTO:+0100
TZNAME:CET
DTSTART:20221030T010000
END:STANDARD
BEGIN:DAYLIGHT
TZOFFSETFROM:+0100
TZOFFSETTO:+0200
TZNAME:CEST
DTSTART:20230326T010000
END:DAYLIGHT
BEGIN:STANDARD
TZOFFSETFROM:+0200
TZOFFSETTO:+0100
TZNAME:CET
DTSTART:20231029T010000
END:STANDARD
BEGIN:DAYLIGHT
TZOFFSETFROM:+0100
TZOFFSETTO:+0200
TZNAME:CEST
DTSTART:20240331T010000
END:DAYLIGHT
BEGIN:STANDARD
TZOFFSETFROM:+0200
TZOFFSETTO:+0100
TZNAME:CET
DTSTART:20241027T010000
END:STANDARD
END:VTIMEZONE
BEGIN:VEVENT
DTSTART;TZID=Europe/Zurich:20230909T073000
DTEND;TZID=Europe/Zurich:20230909T120000
DTSTAMP:20260423T171148
CREATED:20221224T115113Z
LAST-MODIFIED:20221224T115113Z
UID:1995-1694244600-1694260800@feuerwehr-gachnang.ch
SUMMARY:Übung 8 + 9
DESCRIPTION:
URL:https://feuerwehr-gachnang.ch/event/uebung-8-9-2/
CATEGORIES:2023,Mannschaft
END:VEVENT
BEGIN:VEVENT
DTSTART;TZID=Europe/Zurich:20230919T193000
DTEND;TZID=Europe/Zurich:20230919T220000
DTSTAMP:20260423T171148
CREATED:20221224T115201Z
LAST-MODIFIED:20230919T195519Z
UID:1997-1695151800-1695160800@feuerwehr-gachnang.ch
SUMMARY:Fahrschule 2
DESCRIPTION:
URL:https://feuerwehr-gachnang.ch/event/fahrschule-2-4/
CATEGORIES:2023,Fahrer_Maschinisten
END:VEVENT
BEGIN:VEVENT
DTSTART;TZID=Europe/Zurich:20230921T193000
DTEND;TZID=Europe/Zurich:20230921T220000
DTSTAMP:20260423T171148
CREATED:20230919T195208Z
LAST-MODIFIED:20230919T195514Z
UID:2132-1695324600-1695333600@feuerwehr-gachnang.ch
SUMMARY:Kader 2
DESCRIPTION:
URL:https://feuerwehr-gachnang.ch/event/kader-2-2/
CATEGORIES:2023,Kader
END:VEVENT
BEGIN:VEVENT
DTSTART;TZID=Europe/Zurich:20230927T193000
DTEND;TZID=Europe/Zurich:20230927T220000
DTSTAMP:20260423T171148
CREATED:20221224T115231Z
LAST-MODIFIED:20230919T195507Z
UID:1999-1695843000-1695852000@feuerwehr-gachnang.ch
SUMMARY:Übung 10
DESCRIPTION:
URL:https://feuerwehr-gachnang.ch/event/uebung-10-2/
CATEGORIES:2023,Mannschaft
END:VEVENT
END:VCALENDAR