BEGIN:VCALENDAR
VERSION:2.0
PRODID:-//Feuerwehr Gachnang - ECPv6.15.20//NONSGML v1.0//EN
CALSCALE:GREGORIAN
METHOD:PUBLISH
X-ORIGINAL-URL:https://feuerwehr-gachnang.ch
X-WR-CALDESC:Veranstaltungen für Feuerwehr Gachnang
REFRESH-INTERVAL;VALUE=DURATION:PT1H
X-Robots-Tag:noindex
X-PUBLISHED-TTL:PT1H
BEGIN:VTIMEZONE
TZID:Europe/Zurich
BEGIN:DAYLIGHT
TZOFFSETFROM:+0100
TZOFFSETTO:+0200
TZNAME:CEST
DTSTART:20220327T010000
END:DAYLIGHT
BEGIN:STANDARD
TZOFFSETFROM:+0200
TZOFFSETTO:+0100
TZNAME:CET
DTSTART:20221030T010000
END:STANDARD
BEGIN:DAYLIGHT
TZOFFSETFROM:+0100
TZOFFSETTO:+0200
TZNAME:CEST
DTSTART:20230326T010000
END:DAYLIGHT
BEGIN:STANDARD
TZOFFSETFROM:+0200
TZOFFSETTO:+0100
TZNAME:CET
DTSTART:20231029T010000
END:STANDARD
BEGIN:DAYLIGHT
TZOFFSETFROM:+0100
TZOFFSETTO:+0200
TZNAME:CEST
DTSTART:20240331T010000
END:DAYLIGHT
BEGIN:STANDARD
TZOFFSETFROM:+0200
TZOFFSETTO:+0100
TZNAME:CET
DTSTART:20241027T010000
END:STANDARD
END:VTIMEZONE
BEGIN:VEVENT
DTSTART;TZID=Europe/Zurich:20231109T193000
DTEND;TZID=Europe/Zurich:20231109T220000
DTSTAMP:20260423T134508
CREATED:20221224T115512Z
LAST-MODIFIED:20230919T195330Z
UID:2008-1699558200-1699567200@feuerwehr-gachnang.ch
SUMMARY:Übung 11
DESCRIPTION:
URL:https://feuerwehr-gachnang.ch/event/uebung-11-2/
CATEGORIES:2023,Mannschaft
END:VEVENT
BEGIN:VEVENT
DTSTART;TZID=Europe/Zurich:20231122T193000
DTEND;TZID=Europe/Zurich:20231122T220000
DTSTAMP:20260423T134508
CREATED:20221224T115535Z
LAST-MODIFIED:20230919T195443Z
UID:2010-1700681400-1700690400@feuerwehr-gachnang.ch
SUMMARY:Offiziersrapport 2
DESCRIPTION:
URL:https://feuerwehr-gachnang.ch/event/offiziersrapport-2-3/
CATEGORIES:2023,Offiziere
END:VEVENT
END:VCALENDAR