BEGIN:VCALENDAR
VERSION:2.0
PRODID:-//Feuerwehr Gachnang - ECPv6.15.20//NONSGML v1.0//EN
CALSCALE:GREGORIAN
METHOD:PUBLISH
X-WR-CALNAME:Feuerwehr Gachnang
X-ORIGINAL-URL:https://feuerwehr-gachnang.ch
X-WR-CALDESC:Veranstaltungen für Feuerwehr Gachnang
REFRESH-INTERVAL;VALUE=DURATION:PT1H
X-Robots-Tag:noindex
X-PUBLISHED-TTL:PT1H
BEGIN:VTIMEZONE
TZID:Europe/Zurich
BEGIN:DAYLIGHT
TZOFFSETFROM:+0100
TZOFFSETTO:+0200
TZNAME:CEST
DTSTART:20230326T010000
END:DAYLIGHT
BEGIN:STANDARD
TZOFFSETFROM:+0200
TZOFFSETTO:+0100
TZNAME:CET
DTSTART:20231029T010000
END:STANDARD
BEGIN:DAYLIGHT
TZOFFSETFROM:+0100
TZOFFSETTO:+0200
TZNAME:CEST
DTSTART:20240331T010000
END:DAYLIGHT
BEGIN:STANDARD
TZOFFSETFROM:+0200
TZOFFSETTO:+0100
TZNAME:CET
DTSTART:20241027T010000
END:STANDARD
BEGIN:DAYLIGHT
TZOFFSETFROM:+0100
TZOFFSETTO:+0200
TZNAME:CEST
DTSTART:20250330T010000
END:DAYLIGHT
BEGIN:STANDARD
TZOFFSETFROM:+0200
TZOFFSETTO:+0100
TZNAME:CET
DTSTART:20251026T010000
END:STANDARD
END:VTIMEZONE
BEGIN:VEVENT
DTSTART;TZID=Europe/Zurich:20240205T193000
DTEND;TZID=Europe/Zurich:20240205T214500
DTSTAMP:20260423T085632
CREATED:20231130T101317Z
LAST-MODIFIED:20231130T101317Z
UID:2185-1707161400-1707169500@feuerwehr-gachnang.ch
SUMMARY:AS-Übung 1
DESCRIPTION:
URL:https://feuerwehr-gachnang.ch/event/as-uebung-1-4/
LOCATION:Feuerwehr Depot Gachnang
CATEGORIES:2024,Atemschutz
END:VEVENT
BEGIN:VEVENT
DTSTART;TZID=Europe/Zurich:20240213T193000
DTEND;TZID=Europe/Zurich:20240213T214500
DTSTAMP:20260423T085632
CREATED:20231130T101652Z
LAST-MODIFIED:20231130T101652Z
UID:2195-1707852600-1707860700@feuerwehr-gachnang.ch
SUMMARY:FU-Übung 1
DESCRIPTION:
URL:https://feuerwehr-gachnang.ch/event/fu-uebung-1-4/
LOCATION:Feuerwehr Depot Gachnang
CATEGORIES:2024,Führungsunterstützung
END:VEVENT
BEGIN:VEVENT
DTSTART;TZID=Europe/Zurich:20240221T193000
DTEND;TZID=Europe/Zurich:20240221T214500
DTSTAMP:20260423T085632
CREATED:20231130T102149Z
LAST-MODIFIED:20231130T102149Z
UID:2215-1708543800-1708551900@feuerwehr-gachnang.ch
SUMMARY:Fahrschule 1
DESCRIPTION:
URL:https://feuerwehr-gachnang.ch/event/fahrschule-1-3/
LOCATION:Feuerwehr Depot Gachnang
CATEGORIES:2024,Fahrer_Maschinisten
END:VEVENT
BEGIN:VEVENT
DTSTART;TZID=Europe/Zurich:20240223T193000
DTEND;TZID=Europe/Zurich:20240223T214500
DTSTAMP:20260423T085632
CREATED:20231130T102422Z
LAST-MODIFIED:20231130T102422Z
UID:2221-1708716600-1708724700@feuerwehr-gachnang.ch
SUMMARY:Kaderessen
DESCRIPTION:
URL:https://feuerwehr-gachnang.ch/event/kaderessen-4/
LOCATION:Feuerwehr Depot Gachnang
CATEGORIES:2024,Kader
END:VEVENT
BEGIN:VEVENT
DTSTART;TZID=Europe/Zurich:20240227T193000
DTEND;TZID=Europe/Zurich:20240227T214500
DTSTAMP:20260423T085632
CREATED:20231130T095929Z
LAST-MODIFIED:20231130T100747Z
UID:2165-1709062200-1709070300@feuerwehr-gachnang.ch
SUMMARY:Übung 2
DESCRIPTION:
URL:https://feuerwehr-gachnang.ch/event/uebung-2-3/
LOCATION:Feuerwehr Depot Gachnang
CATEGORIES:2024,Mannschaft
END:VEVENT
END:VCALENDAR