BEGIN:VCALENDAR
VERSION:2.0
PRODID:-//Feuerwehr Gachnang - ECPv6.15.20//NONSGML v1.0//EN
CALSCALE:GREGORIAN
METHOD:PUBLISH
X-ORIGINAL-URL:https://feuerwehr-gachnang.ch
X-WR-CALDESC:Veranstaltungen für Feuerwehr Gachnang
REFRESH-INTERVAL;VALUE=DURATION:PT1H
X-Robots-Tag:noindex
X-PUBLISHED-TTL:PT1H
BEGIN:VTIMEZONE
TZID:Europe/Zurich
BEGIN:DAYLIGHT
TZOFFSETFROM:+0100
TZOFFSETTO:+0200
TZNAME:CEST
DTSTART:20230326T010000
END:DAYLIGHT
BEGIN:STANDARD
TZOFFSETFROM:+0200
TZOFFSETTO:+0100
TZNAME:CET
DTSTART:20231029T010000
END:STANDARD
BEGIN:DAYLIGHT
TZOFFSETFROM:+0100
TZOFFSETTO:+0200
TZNAME:CEST
DTSTART:20240331T010000
END:DAYLIGHT
BEGIN:STANDARD
TZOFFSETFROM:+0200
TZOFFSETTO:+0100
TZNAME:CET
DTSTART:20241027T010000
END:STANDARD
BEGIN:DAYLIGHT
TZOFFSETFROM:+0100
TZOFFSETTO:+0200
TZNAME:CEST
DTSTART:20250330T010000
END:DAYLIGHT
BEGIN:STANDARD
TZOFFSETFROM:+0200
TZOFFSETTO:+0100
TZNAME:CET
DTSTART:20251026T010000
END:STANDARD
END:VTIMEZONE
BEGIN:VEVENT
DTSTART;VALUE=DATE:20240410
DTEND;VALUE=DATE:20240413
DTSTAMP:20260423T052243
CREATED:20231130T102528Z
LAST-MODIFIED:20240307T085547Z
UID:2223-1712707200-1712966399@feuerwehr-gachnang.ch
SUMMARY:Beginners\, Grundausbildung
DESCRIPTION:
URL:https://feuerwehr-gachnang.ch/event/beginners-grundausbildung/
LOCATION:Feuerwehr Depot Gachnang
CATEGORIES:2024
END:VEVENT
BEGIN:VEVENT
DTSTART;TZID=Europe/Zurich:20240417T193000
DTEND;TZID=Europe/Zurich:20240417T214500
DTSTAMP:20260423T052243
CREATED:20231130T101815Z
LAST-MODIFIED:20231130T101815Z
UID:2201-1713382200-1713390300@feuerwehr-gachnang.ch
SUMMARY:Kaderübung 1
DESCRIPTION:
URL:https://feuerwehr-gachnang.ch/event/kaderuebung-1/
LOCATION:Feuerwehr Depot Gachnang
CATEGORIES:2024,Kader
END:VEVENT
BEGIN:VEVENT
DTSTART;TZID=Europe/Zurich:20240425T193000
DTEND;TZID=Europe/Zurich:20240425T214500
DTSTAMP:20260423T052243
CREATED:20231130T101531Z
LAST-MODIFIED:20231130T101531Z
UID:2187-1714073400-1714081500@feuerwehr-gachnang.ch
SUMMARY:AS-Übung 2
DESCRIPTION:
URL:https://feuerwehr-gachnang.ch/event/as-uebung-2-4/
LOCATION:Feuerwehr Depot Gachnang
CATEGORIES:2024,Atemschutz
END:VEVENT
BEGIN:VEVENT
DTSTART;TZID=Europe/Zurich:20240425T193000
DTEND;TZID=Europe/Zurich:20240425T214500
DTSTAMP:20260423T052243
CREATED:20231130T101718Z
LAST-MODIFIED:20231130T101718Z
UID:2197-1714073400-1714081500@feuerwehr-gachnang.ch
SUMMARY:FU-Übung 2
DESCRIPTION:
URL:https://feuerwehr-gachnang.ch/event/fu-uebung-2-5/
LOCATION:Feuerwehr Depot Gachnang
CATEGORIES:2024,Führungsunterstützung
END:VEVENT
END:VCALENDAR