BEGIN:VCALENDAR
VERSION:2.0
PRODID:-//Feuerwehr Gachnang - ECPv6.15.20//NONSGML v1.0//EN
CALSCALE:GREGORIAN
METHOD:PUBLISH
X-ORIGINAL-URL:https://feuerwehr-gachnang.ch
X-WR-CALDESC:Veranstaltungen für Feuerwehr Gachnang
REFRESH-INTERVAL;VALUE=DURATION:PT1H
X-Robots-Tag:noindex
X-PUBLISHED-TTL:PT1H
BEGIN:VTIMEZONE
TZID:Europe/Zurich
BEGIN:DAYLIGHT
TZOFFSETFROM:+0100
TZOFFSETTO:+0200
TZNAME:CEST
DTSTART:20230326T010000
END:DAYLIGHT
BEGIN:STANDARD
TZOFFSETFROM:+0200
TZOFFSETTO:+0100
TZNAME:CET
DTSTART:20231029T010000
END:STANDARD
BEGIN:DAYLIGHT
TZOFFSETFROM:+0100
TZOFFSETTO:+0200
TZNAME:CEST
DTSTART:20240331T010000
END:DAYLIGHT
BEGIN:STANDARD
TZOFFSETFROM:+0200
TZOFFSETTO:+0100
TZNAME:CET
DTSTART:20241027T010000
END:STANDARD
BEGIN:DAYLIGHT
TZOFFSETFROM:+0100
TZOFFSETTO:+0200
TZNAME:CEST
DTSTART:20250330T010000
END:DAYLIGHT
BEGIN:STANDARD
TZOFFSETFROM:+0200
TZOFFSETTO:+0100
TZNAME:CET
DTSTART:20251026T010000
END:STANDARD
END:VTIMEZONE
BEGIN:VEVENT
DTSTART;TZID=Europe/Zurich:20240502T193000
DTEND;TZID=Europe/Zurich:20240502T214500
DTSTAMP:20260423T034438
CREATED:20231130T100007Z
LAST-MODIFIED:20231130T100805Z
UID:2169-1714678200-1714686300@feuerwehr-gachnang.ch
SUMMARY:Übung 4
DESCRIPTION:
URL:https://feuerwehr-gachnang.ch/event/uebung-4-3/
LOCATION:Feuerwehr Depot Gachnang
CATEGORIES:2024,Mannschaft
END:VEVENT
BEGIN:VEVENT
DTSTART;TZID=Europe/Zurich:20240524T193000
DTEND;TZID=Europe/Zurich:20240524T214500
DTSTAMP:20260423T034438
CREATED:20231130T100026Z
LAST-MODIFIED:20231130T100811Z
UID:2171-1716579000-1716587100@feuerwehr-gachnang.ch
SUMMARY:Übung 5
DESCRIPTION:
URL:https://feuerwehr-gachnang.ch/event/uebung-5-3/
LOCATION:Feuerwehr Depot Gachnang
CATEGORIES:2024,Mannschaft
END:VEVENT
BEGIN:VEVENT
DTSTART;TZID=Europe/Zurich:20240527T193000
DTEND;TZID=Europe/Zurich:20240527T214500
DTSTAMP:20260423T034438
CREATED:20231130T101545Z
LAST-MODIFIED:20231130T101545Z
UID:2189-1716838200-1716846300@feuerwehr-gachnang.ch
SUMMARY:AS-Leistungstest 2
DESCRIPTION:
URL:https://feuerwehr-gachnang.ch/event/as-leistungstest-2/
LOCATION:Feuerwehr Depot Gachnang
CATEGORIES:2024,Atemschutz
END:VEVENT
END:VCALENDAR