BEGIN:VCALENDAR
VERSION:2.0
PRODID:-//Feuerwehr Gachnang - ECPv6.15.20//NONSGML v1.0//EN
CALSCALE:GREGORIAN
METHOD:PUBLISH
X-WR-CALNAME:Feuerwehr Gachnang
X-ORIGINAL-URL:https://feuerwehr-gachnang.ch
X-WR-CALDESC:Veranstaltungen für Feuerwehr Gachnang
REFRESH-INTERVAL;VALUE=DURATION:PT1H
X-Robots-Tag:noindex
X-PUBLISHED-TTL:PT1H
BEGIN:VTIMEZONE
TZID:Europe/Zurich
BEGIN:DAYLIGHT
TZOFFSETFROM:+0100
TZOFFSETTO:+0200
TZNAME:CEST
DTSTART:20230326T010000
END:DAYLIGHT
BEGIN:STANDARD
TZOFFSETFROM:+0200
TZOFFSETTO:+0100
TZNAME:CET
DTSTART:20231029T010000
END:STANDARD
BEGIN:DAYLIGHT
TZOFFSETFROM:+0100
TZOFFSETTO:+0200
TZNAME:CEST
DTSTART:20240331T010000
END:DAYLIGHT
BEGIN:STANDARD
TZOFFSETFROM:+0200
TZOFFSETTO:+0100
TZNAME:CET
DTSTART:20241027T010000
END:STANDARD
BEGIN:DAYLIGHT
TZOFFSETFROM:+0100
TZOFFSETTO:+0200
TZNAME:CEST
DTSTART:20250330T010000
END:DAYLIGHT
BEGIN:STANDARD
TZOFFSETFROM:+0200
TZOFFSETTO:+0100
TZNAME:CET
DTSTART:20251026T010000
END:STANDARD
END:VTIMEZONE
BEGIN:VEVENT
DTSTART;VALUE=DATE:20240801
DTEND;VALUE=DATE:20240802
DTSTAMP:20260422T222734
CREATED:20231130T102956Z
LAST-MODIFIED:20231130T102956Z
UID:2231-1722470400-1722556799@feuerwehr-gachnang.ch
SUMMARY:Funkenwache
DESCRIPTION:
URL:https://feuerwehr-gachnang.ch/event/funkenwache-2/
LOCATION:Feuerwehr Depot Gachnang
CATEGORIES:2024
END:VEVENT
BEGIN:VEVENT
DTSTART;TZID=Europe/Zurich:20240814T193000
DTEND;TZID=Europe/Zurich:20240814T214500
DTSTAMP:20260422T222734
CREATED:20231130T101953Z
LAST-MODIFIED:20231130T101953Z
UID:2207-1723663800-1723671900@feuerwehr-gachnang.ch
SUMMARY:Offiziersübung 2
DESCRIPTION:
URL:https://feuerwehr-gachnang.ch/event/offiziersuebung-2-2/
LOCATION:Feuerwehr Depot Gachnang
CATEGORIES:2024,Offiziere
END:VEVENT
BEGIN:VEVENT
DTSTART;TZID=Europe/Zurich:20240820T193000
DTEND;TZID=Europe/Zurich:20240820T214500
DTSTAMP:20260422T222734
CREATED:20231130T100143Z
LAST-MODIFIED:20231130T100825Z
UID:2175-1724182200-1724190300@feuerwehr-gachnang.ch
SUMMARY:Übung 7
DESCRIPTION:
URL:https://feuerwehr-gachnang.ch/event/uebung-7-3/
LOCATION:Feuerwehr Depot Gachnang
CATEGORIES:2024,Mannschaft
END:VEVENT
BEGIN:VEVENT
DTSTART;TZID=Europe/Zurich:20240827T193000
DTEND;TZID=Europe/Zurich:20240827T214500
DTSTAMP:20260422T222734
CREATED:20231130T102125Z
LAST-MODIFIED:20231130T102125Z
UID:2213-1724787000-1724795100@feuerwehr-gachnang.ch
SUMMARY:Infoanlass 2
DESCRIPTION:
URL:https://feuerwehr-gachnang.ch/event/infoanlass-2-3/
LOCATION:Feuerwehr Depot Gachnang
CATEGORIES:2024
END:VEVENT
END:VCALENDAR