BEGIN:VCALENDAR
VERSION:2.0
PRODID:-//Feuerwehr Gachnang - ECPv6.15.20//NONSGML v1.0//EN
CALSCALE:GREGORIAN
METHOD:PUBLISH
X-WR-CALNAME:Feuerwehr Gachnang
X-ORIGINAL-URL:https://feuerwehr-gachnang.ch
X-WR-CALDESC:Veranstaltungen für Feuerwehr Gachnang
REFRESH-INTERVAL;VALUE=DURATION:PT1H
X-Robots-Tag:noindex
X-PUBLISHED-TTL:PT1H
BEGIN:VTIMEZONE
TZID:Europe/Zurich
BEGIN:DAYLIGHT
TZOFFSETFROM:+0100
TZOFFSETTO:+0200
TZNAME:CEST
DTSTART:20240331T010000
END:DAYLIGHT
BEGIN:STANDARD
TZOFFSETFROM:+0200
TZOFFSETTO:+0100
TZNAME:CET
DTSTART:20241027T010000
END:STANDARD
BEGIN:DAYLIGHT
TZOFFSETFROM:+0100
TZOFFSETTO:+0200
TZNAME:CEST
DTSTART:20250330T010000
END:DAYLIGHT
BEGIN:STANDARD
TZOFFSETFROM:+0200
TZOFFSETTO:+0100
TZNAME:CET
DTSTART:20251026T010000
END:STANDARD
BEGIN:DAYLIGHT
TZOFFSETFROM:+0100
TZOFFSETTO:+0200
TZNAME:CEST
DTSTART:20260329T010000
END:DAYLIGHT
BEGIN:STANDARD
TZOFFSETFROM:+0200
TZOFFSETTO:+0100
TZNAME:CET
DTSTART:20261025T010000
END:STANDARD
END:VTIMEZONE
BEGIN:VEVENT
DTSTART;TZID=Europe/Zurich:20250402T193000
DTEND;TZID=Europe/Zurich:20250402T214500
DTSTAMP:20260422T084109
CREATED:20241201T103405Z
LAST-MODIFIED:20241201T103405Z
UID:2499-1743622200-1743630300@feuerwehr-gachnang.ch
SUMMARY:Kaderübung 1
DESCRIPTION:
URL:https://feuerwehr-gachnang.ch/event/kaderuebung-1-2/
LOCATION:Feuerwehr Depot Gachnang
CATEGORIES:2025,Kader
END:VEVENT
BEGIN:VEVENT
DTSTART;TZID=Europe/Zurich:20250424T193000
DTEND;TZID=Europe/Zurich:20250424T214500
DTSTAMP:20260422T084109
CREATED:20241201T103456Z
LAST-MODIFIED:20241201T103456Z
UID:2501-1745523000-1745531100@feuerwehr-gachnang.ch
SUMMARY:AS-Übung 2
DESCRIPTION:
URL:https://feuerwehr-gachnang.ch/event/as-uebung-2-5/
LOCATION:Feuerwehr Depot Gachnang
CATEGORIES:2025,Atemschutz,Mannschaft
END:VEVENT
BEGIN:VEVENT
DTSTART;TZID=Europe/Zurich:20250424T193000
DTEND;TZID=Europe/Zurich:20250424T214500
DTSTAMP:20260422T084109
CREATED:20241201T103540Z
LAST-MODIFIED:20241201T103540Z
UID:2503-1745523000-1745531100@feuerwehr-gachnang.ch
SUMMARY:FU-Übung 2
DESCRIPTION:
URL:https://feuerwehr-gachnang.ch/event/fu-uebung-2-6/
LOCATION:Feuerwehr Depot Gachnang
CATEGORIES:2025,Führungsunterstützung,Mannschaft
END:VEVENT
BEGIN:VEVENT
DTSTART;TZID=Europe/Zurich:20250430T193000
DTEND;TZID=Europe/Zurich:20250430T214500
DTSTAMP:20260422T084109
CREATED:20241201T103624Z
LAST-MODIFIED:20241201T103624Z
UID:2505-1746041400-1746049500@feuerwehr-gachnang.ch
SUMMARY:Übung 4
DESCRIPTION:
URL:https://feuerwehr-gachnang.ch/event/uebung-4-4/
LOCATION:Feuerwehr Depot Gachnang
CATEGORIES:2025,Mannschaft
END:VEVENT
END:VCALENDAR