BEGIN:VCALENDAR
VERSION:2.0
PRODID:-//Feuerwehr Gachnang - ECPv6.15.20//NONSGML v1.0//EN
CALSCALE:GREGORIAN
METHOD:PUBLISH
X-ORIGINAL-URL:https://feuerwehr-gachnang.ch
X-WR-CALDESC:Veranstaltungen für Feuerwehr Gachnang
REFRESH-INTERVAL;VALUE=DURATION:PT1H
X-Robots-Tag:noindex
X-PUBLISHED-TTL:PT1H
BEGIN:VTIMEZONE
TZID:Europe/Zurich
BEGIN:DAYLIGHT
TZOFFSETFROM:+0100
TZOFFSETTO:+0200
TZNAME:CEST
DTSTART:20240331T010000
END:DAYLIGHT
BEGIN:STANDARD
TZOFFSETFROM:+0200
TZOFFSETTO:+0100
TZNAME:CET
DTSTART:20241027T010000
END:STANDARD
BEGIN:DAYLIGHT
TZOFFSETFROM:+0100
TZOFFSETTO:+0200
TZNAME:CEST
DTSTART:20250330T010000
END:DAYLIGHT
BEGIN:STANDARD
TZOFFSETFROM:+0200
TZOFFSETTO:+0100
TZNAME:CET
DTSTART:20251026T010000
END:STANDARD
BEGIN:DAYLIGHT
TZOFFSETFROM:+0100
TZOFFSETTO:+0200
TZNAME:CEST
DTSTART:20260329T010000
END:DAYLIGHT
BEGIN:STANDARD
TZOFFSETFROM:+0200
TZOFFSETTO:+0100
TZNAME:CET
DTSTART:20261025T010000
END:STANDARD
END:VTIMEZONE
BEGIN:VEVENT
DTSTART;TZID=Europe/Zurich:20250801T190000
DTEND;TZID=Europe/Zurich:20250801T230000
DTSTAMP:20260422T013725
CREATED:20241201T104617Z
LAST-MODIFIED:20241201T104617Z
UID:2519-1754074800-1754089200@feuerwehr-gachnang.ch
SUMMARY:Funkenwache 1. Augustfeier
DESCRIPTION:
URL:https://feuerwehr-gachnang.ch/event/funkenwache-1-augustfeier/
LOCATION:Feuerwehr Depot Gachnang
CATEGORIES:2025,Mannschaft
END:VEVENT
BEGIN:VEVENT
DTSTART;TZID=Europe/Zurich:20250813T193000
DTEND;TZID=Europe/Zurich:20250813T214500
DTSTAMP:20260422T013725
CREATED:20241201T104707Z
LAST-MODIFIED:20241201T104707Z
UID:2521-1755113400-1755121500@feuerwehr-gachnang.ch
SUMMARY:Offiziersübung 2
DESCRIPTION:
URL:https://feuerwehr-gachnang.ch/event/offiziersuebung-2-3/
LOCATION:Feuerwehr Depot Gachnang
CATEGORIES:2025,Offiziere
END:VEVENT
BEGIN:VEVENT
DTSTART;TZID=Europe/Zurich:20250819T193000
DTEND;TZID=Europe/Zurich:20250819T214500
DTSTAMP:20260422T013725
CREATED:20241201T104752Z
LAST-MODIFIED:20241201T104752Z
UID:2523-1755631800-1755639900@feuerwehr-gachnang.ch
SUMMARY:Übung 7
DESCRIPTION:
URL:https://feuerwehr-gachnang.ch/event/uebung-7-4/
LOCATION:Feuerwehr Depot Gachnang
CATEGORIES:2025,Mannschaft
END:VEVENT
BEGIN:VEVENT
DTSTART;TZID=Europe/Zurich:20250826T193000
DTEND;TZID=Europe/Zurich:20250826T214500
DTSTAMP:20260422T013725
CREATED:20241201T104857Z
LAST-MODIFIED:20241201T104857Z
UID:2525-1756236600-1756244700@feuerwehr-gachnang.ch
SUMMARY:Infoanlass 2
DESCRIPTION:
URL:https://feuerwehr-gachnang.ch/event/infoanlass-2-4/
LOCATION:Feuerwehr Depot Gachnang
CATEGORIES:2025,Mannschaft
END:VEVENT
END:VCALENDAR