BEGIN:VCALENDAR
VERSION:2.0
PRODID:-//Feuerwehr Gachnang - ECPv6.15.20//NONSGML v1.0//EN
CALSCALE:GREGORIAN
METHOD:PUBLISH
X-WR-CALNAME:Feuerwehr Gachnang
X-ORIGINAL-URL:https://feuerwehr-gachnang.ch
X-WR-CALDESC:Veranstaltungen für Feuerwehr Gachnang
REFRESH-INTERVAL;VALUE=DURATION:PT1H
X-Robots-Tag:noindex
X-PUBLISHED-TTL:PT1H
BEGIN:VTIMEZONE
TZID:Europe/Zurich
BEGIN:DAYLIGHT
TZOFFSETFROM:+0100
TZOFFSETTO:+0200
TZNAME:CEST
DTSTART:20240331T010000
END:DAYLIGHT
BEGIN:STANDARD
TZOFFSETFROM:+0200
TZOFFSETTO:+0100
TZNAME:CET
DTSTART:20241027T010000
END:STANDARD
BEGIN:DAYLIGHT
TZOFFSETFROM:+0100
TZOFFSETTO:+0200
TZNAME:CEST
DTSTART:20250330T010000
END:DAYLIGHT
BEGIN:STANDARD
TZOFFSETFROM:+0200
TZOFFSETTO:+0100
TZNAME:CET
DTSTART:20251026T010000
END:STANDARD
BEGIN:DAYLIGHT
TZOFFSETFROM:+0100
TZOFFSETTO:+0200
TZNAME:CEST
DTSTART:20260329T010000
END:DAYLIGHT
BEGIN:STANDARD
TZOFFSETFROM:+0200
TZOFFSETTO:+0100
TZNAME:CET
DTSTART:20261025T010000
END:STANDARD
END:VTIMEZONE
BEGIN:VEVENT
DTSTART;TZID=Europe/Zurich:20251113T193000
DTEND;TZID=Europe/Zurich:20251113T214500
DTSTAMP:20260421T203919
CREATED:20241201T114504Z
LAST-MODIFIED:20241201T114504Z
UID:2539-1763062200-1763070300@feuerwehr-gachnang.ch
SUMMARY:Übung 11
DESCRIPTION:
URL:https://feuerwehr-gachnang.ch/event/uebung-11-4/
LOCATION:Feuerwehr Depot Gachnang
CATEGORIES:2025,Mannschaft
END:VEVENT
BEGIN:VEVENT
DTSTART;TZID=Europe/Zurich:20251121T193000
DTEND;TZID=Europe/Zurich:20251121T214500
DTSTAMP:20260421T203919
CREATED:20241201T114553Z
LAST-MODIFIED:20241201T114553Z
UID:2541-1763753400-1763761500@feuerwehr-gachnang.ch
SUMMARY:Funktionärs-Rapport 2
DESCRIPTION:
URL:https://feuerwehr-gachnang.ch/event/funktionaers-rapport-2/
LOCATION:Feuerwehr Depot Gachnang
CATEGORIES:2025,Offiziere
END:VEVENT
BEGIN:VEVENT
DTSTART;TZID=Europe/Zurich:20251128T193000
DTEND;TZID=Europe/Zurich:20251128T214500
DTSTAMP:20260421T203919
CREATED:20241201T114632Z
LAST-MODIFIED:20241201T114632Z
UID:2543-1764358200-1764366300@feuerwehr-gachnang.ch
SUMMARY:Übung 12 mit Abschlusshöck
DESCRIPTION:
URL:https://feuerwehr-gachnang.ch/event/uebung-12-mit-abschlusshoeck-4/
LOCATION:Feuerwehr Depot Gachnang
CATEGORIES:2025,Mannschaft
END:VEVENT
END:VCALENDAR