BEGIN:VCALENDAR
VERSION:2.0
PRODID:-//Feuerwehr Gachnang - ECPv6.15.20//NONSGML v1.0//EN
CALSCALE:GREGORIAN
METHOD:PUBLISH
X-ORIGINAL-URL:https://feuerwehr-gachnang.ch
X-WR-CALDESC:Veranstaltungen für Feuerwehr Gachnang
REFRESH-INTERVAL;VALUE=DURATION:PT1H
X-Robots-Tag:noindex
X-PUBLISHED-TTL:PT1H
BEGIN:VTIMEZONE
TZID:Europe/Zurich
BEGIN:DAYLIGHT
TZOFFSETFROM:+0100
TZOFFSETTO:+0200
TZNAME:CEST
DTSTART:20250330T010000
END:DAYLIGHT
BEGIN:STANDARD
TZOFFSETFROM:+0200
TZOFFSETTO:+0100
TZNAME:CET
DTSTART:20251026T010000
END:STANDARD
BEGIN:DAYLIGHT
TZOFFSETFROM:+0100
TZOFFSETTO:+0200
TZNAME:CEST
DTSTART:20260329T010000
END:DAYLIGHT
BEGIN:STANDARD
TZOFFSETFROM:+0200
TZOFFSETTO:+0100
TZNAME:CET
DTSTART:20261025T010000
END:STANDARD
BEGIN:DAYLIGHT
TZOFFSETFROM:+0100
TZOFFSETTO:+0200
TZNAME:CEST
DTSTART:20270328T010000
END:DAYLIGHT
BEGIN:STANDARD
TZOFFSETFROM:+0200
TZOFFSETTO:+0100
TZNAME:CET
DTSTART:20271031T010000
END:STANDARD
END:VTIMEZONE
BEGIN:VEVENT
DTSTART;TZID=Europe/Zurich:20260202T193000
DTEND;TZID=Europe/Zurich:20260202T214500
DTSTAMP:20260421T173112
CREATED:20251020T134557Z
LAST-MODIFIED:20251020T134557Z
UID:2661-1770060600-1770068700@feuerwehr-gachnang.ch
SUMMARY:AS-Übung 1
DESCRIPTION:
URL:https://feuerwehr-gachnang.ch/event/as-uebung-1-6/
LOCATION:Feuerwehr Depot Gachnang
CATEGORIES:2026,Atemschutz,Mannschaft
END:VEVENT
BEGIN:VEVENT
DTSTART;TZID=Europe/Zurich:20260210T193000
DTEND;TZID=Europe/Zurich:20260210T214500
DTSTAMP:20260421T173112
CREATED:20251020T134647Z
LAST-MODIFIED:20251020T134647Z
UID:2663-1770751800-1770759900@feuerwehr-gachnang.ch
SUMMARY:FU-Übung 1
DESCRIPTION:
URL:https://feuerwehr-gachnang.ch/event/fu-uebung-1-6/
LOCATION:Feuerwehr Depot Gachnang
CATEGORIES:2026,Führungsunterstützung,Mannschaft
END:VEVENT
BEGIN:VEVENT
DTSTART;TZID=Europe/Zurich:20260218T193000
DTEND;TZID=Europe/Zurich:20260218T214500
DTSTAMP:20260421T173112
CREATED:20251020T134752Z
LAST-MODIFIED:20251020T134752Z
UID:2665-1771443000-1771451100@feuerwehr-gachnang.ch
SUMMARY:Fahrschule 1
DESCRIPTION:
URL:https://feuerwehr-gachnang.ch/event/fahrschule-1-5/
LOCATION:Feuerwehr Depot Gachnang
CATEGORIES:2026,Fahrer_Maschinisten
END:VEVENT
BEGIN:VEVENT
DTSTART;TZID=Europe/Zurich:20260220T193000
DTEND;TZID=Europe/Zurich:20260220T214500
DTSTAMP:20260421T173112
CREATED:20251020T134849Z
LAST-MODIFIED:20251020T134849Z
UID:2667-1771615800-1771623900@feuerwehr-gachnang.ch
SUMMARY:Kaderessen
DESCRIPTION:
URL:https://feuerwehr-gachnang.ch/event/kaderessen-6/
LOCATION:Feuerwehr Depot Gachnang
CATEGORIES:2026,Kader
END:VEVENT
BEGIN:VEVENT
DTSTART;TZID=Europe/Zurich:20260224T193000
DTEND;TZID=Europe/Zurich:20260224T214500
DTSTAMP:20260421T173112
CREATED:20251020T134950Z
LAST-MODIFIED:20251020T134950Z
UID:2669-1771961400-1771969500@feuerwehr-gachnang.ch
SUMMARY:Übung 2
DESCRIPTION:
URL:https://feuerwehr-gachnang.ch/event/uebung-2-5/
LOCATION:Feuerwehr Depot Gachnang
CATEGORIES:2026,Mannschaft
END:VEVENT
END:VCALENDAR